BEGIN:VCALENDAR
VERSION:2.0
PRODID:spatie/icalendar-generator
DESCRIPTION:Events from The Wenatchee Apollo Club
X-WR-CALDESC:Events from The Wenatchee Apollo Club
REFRESH-INTERVAL;VALUE=DURATION:PT1440M
X-PUBLISHED-TTL:PT1440M
BEGIN:VTIMEZONE
TZID:Etc/GMT+0
BEGIN:STANDARD
DTSTART:20250713T190000Z
TZOFFSETFROM:+0000
TZOFFSETTO:+0000
END:STANDARD
END:VTIMEZONE
BEGIN:VTIMEZONE
TZID:UTC
BEGIN:STANDARD
DTSTART:20250729T163012Z
TZOFFSETFROM:+0000
TZOFFSETTO:+0000
END:STANDARD
END:VTIMEZONE
BEGIN:VEVENT
UID:178-84
DTSTAMP:20260425T163012Z
SUMMARY:Apollo Club Board Meeting
LOCATION:
ORGANIZER;CN=Hank LuBean:MAILTO:support@lubean.com
DTSTART;TZID=Etc/GMT+0:20260409T190000
DTEND;TZID=Etc/GMT+0:20260409T200000
X-ALT-DESC;FMTTYPE=TEXT/HTML:<p>Topic: Apollo Club Board Meeting<br />\nhtt
 ps://us02web.zoom.us/j/83384045871?pwd=dllDNWlQdjBTR0srSVpUVjY1TzJ2Zz09<br />\nMeeting ID: 833 8404 5871<br />\nPasscode: 1910</p>\n
CATEGORIES:General
URL;VALUE=URI:https://lubean.com/apollo/mc-events/apollo-club-board-meeting
 -4/
METHOD:PUBLISH
END:VEVENT
END:VCALENDAR