BEGIN:VCALENDAR
VERSION:2.0
PRODID:spatie/icalendar-generator
DESCRIPTION:Events from The Wenatchee Apollo Club
X-WR-CALDESC:Events from The Wenatchee Apollo Club
REFRESH-INTERVAL;VALUE=DURATION:PT1440M
X-PUBLISHED-TTL:PT1440M
BEGIN:VTIMEZONE
TZID:Etc/GMT+0
BEGIN:STANDARD
DTSTART:20250805T100000Z
TZOFFSETFROM:+0000
TZOFFSETTO:+0000
END:STANDARD
END:VTIMEZONE
BEGIN:VTIMEZONE
TZID:UTC
BEGIN:STANDARD
DTSTART:20250729T161256Z
TZOFFSETFROM:+0000
TZOFFSETTO:+0000
END:STANDARD
END:VTIMEZONE
BEGIN:VEVENT
UID:174-89
DTSTAMP:20260425T161256Z
SUMMARY:Apollo Club in Stemilt Parade
LOCATION:Wenatchee Parade Route   Wenatchee WA 98801
ORGANIZER;CN=Hank LuBean:MAILTO:support@lubean.com
DTSTART;TZID=Etc/GMT+0:20260502T100000
DTEND;TZID=Etc/GMT+0:20260502T130000
X-ALT-DESC;FMTTYPE=TEXT/HTML:The Apollo Club will be singing on a float (tr
 ailer) in the Apple Blossom Parade.
CATEGORIES:General
URL;VALUE=URI:https://lubean.com/apollo/mc-events/apollo-club-in-stemilt-pa
 rade/
METHOD:PUBLISH
END:VEVENT
END:VCALENDAR