BEGIN:VCALENDAR
VERSION:2.0
PRODID:spatie/icalendar-generator
DESCRIPTION:Events from The Wenatchee Apollo Club
X-WR-CALDESC:Events from The Wenatchee Apollo Club
REFRESH-INTERVAL;VALUE=DURATION:PT1440M
X-PUBLISHED-TTL:PT1440M
BEGIN:VTIMEZONE
TZID:Etc/GMT+0
BEGIN:STANDARD
DTSTART:20250801T180000Z
TZOFFSETFROM:+0000
TZOFFSETTO:+0000
END:STANDARD
END:VTIMEZONE
BEGIN:VTIMEZONE
TZID:UTC
BEGIN:STANDARD
DTSTART:20250729T161853Z
TZOFFSETFROM:+0000
TZOFFSETTO:+0000
END:STANDARD
END:VTIMEZONE
BEGIN:VEVENT
UID:172-88
DTSTAMP:20260425T161853Z
SUMMARY:Apollo Club at Memorial Park
LOCATION:Wenatchee Memorial Park CHELAN AVE. AND ORONDO ST.   WENATCHEE\,  
 WA  98801
ORGANIZER;CN=Hank LuBean:MAILTO:support@lubean.com
DTSTART;TZID=Etc/GMT+0:20260428T180000
DTEND;TZID=Etc/GMT+0:20260428T190000
X-ALT-DESC;FMTTYPE=TEXT/HTML:The Apollo Club will be performing on stage as
  part of Apple Blossom Festival in Wenatchee. Riser setup 5pm.  Also\, wa
 tch for the Apollo Club in the Stemilt Parade.
CATEGORIES:General
URL;VALUE=URI:https://lubean.com/apollo/mc-events/apollo-club-at-memorial-p
 ark/
METHOD:PUBLISH
END:VEVENT
END:VCALENDAR