BEGIN:VCALENDAR
VERSION:2.0
PRODID:spatie/icalendar-generator
DESCRIPTION:Events from The Wenatchee Apollo Club
X-WR-CALDESC:Events from The Wenatchee Apollo Club
REFRESH-INTERVAL;VALUE=DURATION:PT1440M
X-PUBLISHED-TTL:PT1440M
BEGIN:VTIMEZONE
TZID:Etc/GMT+0
BEGIN:STANDARD
DTSTART:20250718T190000Z
TZOFFSETFROM:+0000
TZOFFSETTO:+0000
END:STANDARD
END:VTIMEZONE
BEGIN:VTIMEZONE
TZID:UTC
BEGIN:STANDARD
DTSTART:20250729T161923Z
TZOFFSETFROM:+0000
TZOFFSETTO:+0000
END:STANDARD
END:VTIMEZONE
BEGIN:VEVENT
UID:159-80
DTSTAMP:20260425T161923Z
SUMMARY:Regular Apollo Practice
LOCATION:Eastmont Junior High School 905 8th St NE  East Wenatchee WA 98802
ORGANIZER;CN=Hank LuBean:MAILTO:support@lubean.com
RRULE:FREQ=WEEKLY;UNTIL=20260526T000000Z
DTSTART;TZID=Etc/GMT+0:20260414T190000
DTEND;TZID=Etc/GMT+0:20260414T210000
X-ALT-DESC;FMTTYPE=TEXT/HTML:The Apollo Club's regular practice. Same time 
 and place each week unless otherwise notified.
CATEGORIES:General
URL;VALUE=URI:https://lubean.com/apollo/mc-events/regular-apollo-practice/?
 mc_id=159
METHOD:PUBLISH
END:VEVENT
END:VCALENDAR